Workbook

Sheet CHARTS
E1: CHARTS
C20: REVENUE | I20: EXPENDITURE
C36: REVENUE
C53: EXPENDITURE

Sheet F. PERFORMANCE
B1: EKITI STATE OF NIGERIA
B2: STATEMENT OF FINANCIAL PERFORMANCE
B3: FOR THE YEAR ENDED 31ST DECEMBER, 2018
B5: ACTUAL (2017) | D5: NOTES | E5: ACTUAL 2018 | F5: FINAL BUDGET 2018 | G5: INITIAL BUDGET 2018 | H5: VARIANCE ON FINAL BUDGET
B6: ₦ | E6: ₦ | F6: ₦ | G6: ₦ | H6: ₦
C7: REVENUE
B8: 2.5352826e+10 | C8: Government Share of FAAC | D8: 1 | E8: ='FAAC (1)'!E21 -> 3.8019909e+10 | F8: 3.6566274e+10 | G8: 3.2970738e+10 | H8: =F8-E8 -> -1.4536342e+09
B9: 9.0590863e+09 | C9: Government Share of VAT | D9: 2 | E9: =VAT!E21 -> 1.0214625e+10 | F9: 11000000000 | G9: 10500000000 | H9: =F9-E9 -> 7.8537507e+08
B10: 9.2604197e+09 | C10: Other Statutory Revenue | D10: 3 | E10: ='FAAC (2)'!I20 -> 6.009176e+09 | F10: 2.1983123e+10 | G10: 23000000000 | H10: =F10-E10 -> 1.5973947e+10
B11: 4.3231981e+09 | C11: Tax Revenue | D11: 5 | E11: =IGR!E17 -> 4.7998467e+09 | F11: 4.7619029e+09 | G11: 4.62499e+09 | H11: =F11-E11 -> -37943828
B12: 7.5786559e+09 | C12: Non-Tax Revenue | D12: 5 | E12: =IGR!E28 -> 7.1493081e+09 | F12: 8.322455e+09 | G12: 6.8009545e+09 | H12: =F12-E12 -> 1.1731469e+09
B13: 0 | C13: Investment Income | D13: 6 | E13: ='OTHER REV.'!D8 -> 0 | F13: 0 | G13: 0 | H13: 0
B14: 0 | C14: Interest Earned | D14: 6 | E14: ='OTHER REV.'!D9 -> 0 | F14: 0 | G14: 0 | H14: 0
B15: 8.4132522e+08 | C15: Other Revenue | D15: 6 | E15: ='OTHER REV.'!D14 -> 2.4672238e+08 | F15: 0 | G15: 0 | H15: =F15-E15 -> -2.4672238e+08
B16: 75676284 | C16: Aids & Grants | D16: 7 | E16: ='OTHER REV.'!D21 -> 54468950 | F16: 2.4836948e+09 | G16: 2.4836948e+09 | H16: =F16-E16 -> 2.4292259e+09
B17: 300000000 | C17: Transfer from other Govt. Entities | D17: 8 | E17: ='OTHER REV.'!D32 -> 225000000 | F17: 300000000 | G17: 0 | H17: =F17-E17 -> 75000000
B18: =SUM(B8:B17) -> 5.6791188e+10 | C18: TOTAL REVENUE (A) | E18: =SUM(E8:E17) -> 6.6719056e+10 | F18: =SUM(F8:F17) -> 8.541745e+10 | G18: =SUM(G8:G17) -> 8.0380377e+10 | H18: =SUM(H8:H17) -> 1.8698395e+10
C20: EXPENDITURES
B21: 1.7871354e+10 | C21: Salaries and Wages | D21: 9 | E21: ='SALARIES '!F102 -> 1.7238669e+10 | F21: 2.2914273e+10 | G21: 2.0172718e+10 | H21: =F21-E21 -> 5.6756038e+09
B22: 6.7204309e+08 | C22: Allowances (Non Regular) | D22: 9 | E22: ='SALARIES '!F110 -> 4.265111e+08 | F22: 8.1247964e+08 | G22: 8.1247964e+08 | H22: =F22-E22 -> 3.8596854e+08
B23: 1.2750549e+08 | C23: Social Contributions | D23: 9 | E23: ='SALARIES '!F116 -> 1.2239593e+08 | F23: 250000000 | G23: 200000000 | H23: =F23-E23 -> 1.2760407e+08
B24: =6258211906.92-B23 -> 6.1307064e+09 | C24: Social Benefits | D24: 10 | E24: ='SOCIAL BENIFITS'!D11 -> 7.4930947e+09 | F24: 6.1500481e+09 | G24: 4.1500481e+09 | H24: =F24-E24 -> -1.3430466e+09
B25: 2.3247063e+09 | C25: Overhead Cost | D25: 12 | E25: =OVERHEAD!F207 -> 2.5206058e+09 | F25: 3.6087429e+09 | G25: 3.0448929e+09 | H25: =F25-E25 -> 1.0881371e+09
B26: 7.1061077e+09 | C26: Transfer to Other Funds (ToF) | D26: 13 | E26: =TOF!F71 -> 1.2242456e+10 | F26: 1.218646e+10 | G26: 1.0809337e+10 | H26: =F26-E26 -> -55996545
B27: 1.4330751e+10 | C27: Subvention/Grants/Contributions | D27: 14 | E27: =SUBVENTION!F19 -> 1.4308929e+10 | F27: 1.6859087e+10 | G27: 1.5320087e+10 | H27: =F27-E27 -> 2.550158e+09
B28: 3.0945719e+08 | C28: Depreciation Charges | D28: 15 | E28: ='DEPRECIATION '!D14-0.01 -> 1.5630281e+09 | F28: 0 | G28: 0 | H28: =F28-E28 -> -1.5630281e+09
B29: 0 | C29: Amortisation Charges | D29: 16 | E29: ='DEPRECIATION '!D23 -> 0 | F29: 0 | G29: 0 | H29: =F29-E29 -> 0
B30: 0 | C30: Transfer to other GovT Entities | D30: 9 | E30: ='OTHER REV.'!D40 -> 0 | F30: 0 | G30: 0 | H30: =F30-E30 -> 0
B31: 75676284 | C31: Project Finance by Aids & Grants | D31: 7 | E31: ='OTHER REV.'!D21 -> 54468950 | F31: 0 | G31: 0 | H31: =F31-E31 -> -54468950
B32: =SUM(B21:B31) -> 4.8948307e+10 | C32: TOTAL EXPENDITURE (B) | E32: =SUM(E21:E31) -> 5.5970159e+10 | F32: =SUM(F21:F31) -> 6.278109e+10 | G32: =SUM(G21:G31) -> 5.4509562e+10 | H32: =SUM(H21:H31) -> 6.8109314e+09
B34: =B18-B32 -> 7.8428811e+09 | C34: Surplus/(Deficit) from Operating Activities C=(A-B) | E34: =E18-E32 -> 1.0748897e+10 | F34: =F18-F32 -> 2.263636e+10 | G34: =G18-G32 -> 2.5870815e+10 | H34: =H18-H32 -> 1.1887463e+10
C35: Less:
B36: 3.2803022e+09 | C36: Capital Expenditure | D36: 16 | E36: ='CAPITAL COST'!E38 -> 1.2787146e+09 | F36: ='CAPITAL COST'!F38 -> 3910500000 | G36: 3910500000 | H36: =F36-E36 -> 2.6317854e+09
C37: Gain/(Loss) on Disposal of Assets | E37: 0 | H37: =F37-E37 -> 0
B38: 7.0889803e+09 | C38: Public Debt Charges | D38: 11 | E38: ='SOCIAL BENIFITS'!D21 -> 5.132033e+09 | F38: 1.2022864e+10 | G38: =F38 -> 1.2022864e+10 | H38: =F38-E38 -> 6.890831e+09
B39: =SUM(B36:B38) -> 1.0369283e+10 | C39: Total Non-Operating Revenue/(Expenses) (D) | E39: =SUM(E36:E38) -> 6.4107476e+09 | F39: =SUM(F36:F38) -> 1.5933364e+10 | G39: =SUM(G36:G38) -> 1.5933364e+10 | H39: =F39-E39 -> 9.5226164e+09
H40: =F40-E40 -> 0
B41: =B34-B39 -> -2.5264014e+09 | C41: NET SURPLUS/(DEFICIT) FOR THE PERIOD (C-D) | E41: =E34-E39 -> 4.3381496e+09 | F41: =F34-F39 -> 6.7029965e+09 | G41: =G34-G39 -> 9.9374507e+09 | H41: =H34-H39 -> 2.3648469e+09
B43: The accounting policies and notes to the accounts form an integral part of these Financial Statements.

Sheet F. POSITION 
B1: EKITI STATE OF NIGERIA
B2: STATEMENT OF FINANCIAL POSITION
B3: AS AT 31ST DECEMBER, 2018
C5: NOTES | D5: 31/12/2018 | E5: 31/12/2018 | F5: 31/12/2017 | G5: 31/12/2017
D6: ₦ | E6: ₦ | F6: ₦ | G6: ₦
B7: CURRENT ASSETS
B8: Current Assets
B9: Cash and Cash Equivalent | C9: 17 | D9: ='CASH BAL '!E118 -> 1.1951238e+10 | F9: 1.1384069e+10
B10: Inventories | C10: 18 | D10: ='INVENTORIES '!D15 -> 0 | F10: 0
B11: Receivables | C11: 19 | D11: ='INVENTORIES '!D21 -> 4.0392038e+09 | F11: 4.0274114e+09
B12: Prepayments/Arrears of Revenue | C12: 20 | D12: 0 | F12: 0
B13: TOTAL CURRENT ASSETS (A) | E13: =SUM(D9:D12) -> 1.5990442e+10 | G13: =SUM(F9:F12) -> 1.541148e+10
B15: NON-CURRENT ASSETS
B16: Investment (Bond Sinking Fund Account Balance) | C16: 21 | D16: ='BOND SINKING '!D27 -> 1596112000 | F16: 2561428000 | I16: =E13+D16+D17+D18 -> 3.6474497e+10
B17: Property Plant and Equipment (NBV) | C17: 22 | D17: ='PPE '!H20 -> 1.7310869e+10 | F17: 3.0611034e+09
B18: Work in Progress (PPE) | C18: 23 | D18: =WIP!G10 -> 1577074209 | F18: 6.7024439e+09
B19: TOTAL NON-CURRENT ASSETS (B) | E19: =D16+D17+D18 -> 2.0484055e+10 | G19: =F16+F17+F18 -> 1.2324975e+10
B20: TOTAL ASSETS (C=A+B) | E20: =E19+E13 -> 3.6474497e+10 | G20: =G19+G13 -> 2.7736455e+10
B22: LIABILITIES
B23: Current Liabilities:
B24: Deposits | D24: 0 | F24: 0
B25: Unremitted Deductions | C25: 24 | D25: =ACCRUALS!D9 -> 1.9109307e+09 | F25: 1.2657507e+09
B26: Payables | C26: 25 | D26: =ACCRUALS!D17 -> 1.8358501e+10 | F26: 1.7836924e+10
B27: Accrued Expenses | C27: 26 | D27: =ACCRUALS!D24 -> 4.0477988e+09 | F27: 4.5426964e+09
B28: TOTAL CURRENT LIABILITIES (D) | E28: =D27+D26+D25 -> 2.4317231e+10 | G28: =F24+F25+F26+F27 -> 2.3645371e+10
B30: Non-Current Liabilities
B31: Long Term Borrowings: Foreign Loan | C31: 27 | D31: ='F LOANS REPYT '!C39 -> 3.003453e+10 | F31: 2.0748175e+10
B32: Long Term Borrowings: Domestic Loan | C32: 28 | D32: ='D LOANS REPYT '!J19 -> 5.8067393e+10 | F32: 6.6957961e+10
B33: TOTAL NON-CURRENT LIABILITIES (E) | E33: =D31+D32 -> 8.8101923e+10 | G33: =F31+F32 -> 8.7706136e+10
B34: TOTAL LIABILITIES (F=D+E) | E34: =E33+E28 -> 1.1241915e+11 | G34: =G28+G33 -> 1.1135151e+11
B36: NET ASSETS (G=C-F) | E36: =E20-E34+1.27 -> -7.5944657e+10 | G36: =G20-G34 -> -8.3615052e+10
B38: NET ASSETS/EQUITY | K38: =E36-E42 -> -0.0024871826
B39: Reserves | D39: ='CHANGE IN EQUITY'!G19 -> -8.0282807e+10 | F39: -8.108865e+10
B40: Accumulated Surplus/(Deficit) | D40: ='CHANGE IN EQUITY'!F19 -> 4.3381496e+09 | F40: -2.5264014e+09
B41: Minority Interest | D41: 0 | F41: 0
B42: TOTAL NET ASSETS/EQUITY | E42: =D39+D40+D41 -> -7.5944657e+10 | G42: =F39+F40+F41 -> -8.3615052e+10
B45: The accounting policies and notes to the accounts form an integral part of these Financial Statements.

Sheet CASH FLOW
B1: EKITI STATE OF NIGERIA
B2: STATEMENT OF CASH FLOW
B3: FOR THE YEAR ENDED 31ST DECEMBER, 2018
C4: NOTES | D4: 2018 | F4: 2017
D5: ₦ | E5: ₦ | F5: ₦ | G5: ₦
B6: CASH FLOWS FROM OPERATING ACTIVITIES
B7: INFLOWS
B8: Government Share of FAAC | C8: 1 | D8: ='FAAC (1)'!E21 -> 3.8019909e+10 | F8: 2.5352826e+10
B9: Government Share of VAT | C9: 2 | D9: =VAT!E21 -> 1.0214625e+10 | F9: 9.0590863e+09
B10: Other Statutory Revenue | C10: 3 | D10: ='FAAC (2)'!I20 -> 6.009176e+09 | F10: 9.2604197e+09
B11: Tax Revenue | C11: 5 | D11: =IGR!E17 -> 4.7998467e+09 | F11: 4.3231981e+09
B12: Non-Tax Revenue | C12: 5 | D12: =IGR!E28 -> 7.1493081e+09 | F12: 7.5786559e+09
B13: Investment Income
B14: Interest Earned
B15: Other Revenue | C15: 6 | D15: ='OTHER REV.'!D14 -> 2.4672238e+08 | F15: 8.4132522e+08
B16: AID & Grants | C16: 7 | D16: ='OTHER REV.'!D21 -> 54468950 | F16: 75676284
B17: Transfer from other Government Entities | C17: 8 | D17: ='OTHER REV.'!D32 -> 225000000 | F17: 300000000
B18: TOTAL INFLOW FROM OPERATING ACTIVITIES (A) | E18: =D8+D9+D10+D11+D12+D15+D16+D17 -> 6.6719056e+10 | G18: =SUM(F8:F17) -> 5.6791188e+10
B20: OUTFLOWS
B21: Salaries and Wages | C21: 19 | D21: ='SALARIES (CASH)'!F105 -> 1.8450741e+10 | F21: 1.6869697e+10
B22: Allowances (Non Regular) | C22: 19 | D22: ='SALARIES (CASH)'!F112 -> 4.265111e+08 | F22: 6.7204309e+08
B23: Social Contributions | C23: 19 | D23: ='SALARIES (CASH)'!F118 -> 108000000 | F23: 63000000
B24: Social Benefits | C24: 20 | D24: ='SOCIAL BENIFITS (CASH)'!D12 -> 5.2719399e+09 | F24: =4785405022.31-63000000 -> 4.722405e+09
B25: Public Debt Charges | C25: 21 | D25: ='SOCIAL BENIFITS (CASH)'!D24 -> 5.3253118e+09 | F25: 7.0889803e+09
B26: Overhead Cost | C26: 22 | D26: ='OVERHEAD (CASH)'!F208 -> 2.6154563e+09 | F26: 2.2298558e+09
B27: Transfer to Other Funds | C27: 23 | D27: ='TOF (CASH)'!F73 -> 1.2356054e+10 | F27: 6.9925101e+09
B28: Subvention/Grants | C28: 24 | D28: ='SUBVENTION (CASH)'!F19 -> 1.4595378e+10 | F28: 1.4128843e+10
B29: Expenditure Financed by Aids & Grants | C29: 7 | D29: ='OTHER REV.'!D21 -> 54468950 | F29: 75676284
B30: Transfer to Other Governmnet Entities | F30: 0
B31: TOTAL OUTFLOW FROM OPERATING ACTIVITIES (B) | E31: =SUM(D21:D30) -> 5.9203861e+10 | G31: =SUM(F21:F30) -> 5.284301e+10
B32: NET CASH FLOW FROM OPERATING ACTIVITIES (C=A-B) | E32: =E18-E31 -> 7.5151945e+09 | G32: =G18-G31 -> 3.9481779e+09
B34: CASH FLOWS FROM INVESTING ACTIVITIES
B35: PURCHASE/CONSTRUCTION OF ASSETS:
B36: Administrative Sector | C36: 25 | D36: =-'CAPITAL (CASH)'!F135 -> -7.0253236e+08 | F36: -1.0697771e+09
B37: Economic Sector | C37: 25 | D37: =-'CAPITAL (CASH)'!F136 -> -8.3481379e+09 | F37: -1.0754937e+10
B38: Law and Justice Sector | C38: 25 | D38: =-'CAPITAL (CASH)'!F137 -> 0 | F38: 0
B39: Regional Sector | C39: 25 | D39: ='CAPITAL (CASH)'!F138 -> 0 | F39: -3.5162418e+08
B40: Social Service Sector | C40: 25 | D40: =-'CAPITAL (CASH)'!F139 -> -2.9154681e+09 | F40: -1.1769687e+09
B41: NET CASH FLOW FROM INVESTING ACTIVITIES | E41: =SUM(D36:D40) -> -1.1966138e+10 | G41: =SUM(F36:F40) -> -1.3353307e+10
B43: CASH FLOWS FROM FINANCING ACTIVITIES
...

Sheet CHANGE IN EQUITY
B1: EKITI STATE OF NIGERIA
B2: STATEMENT OF CHANGE IN NET ASSETS/EQUITY
B3: FOR THE YEAR ENDED 31ST DECEMBER, 2018
C5: NOTES | D5: REVALUATION RESERVE | E5: TRANSLATION RESREVE | F5: ACCUMULATED SURPLUSES/DEFICITS | G5: TOTAL
D6: ₦ | E6: ₦ | F6: ₦ | G6: ₦
B7: Balance as at 31st December 2017 | G7: -8.3615052e+10
B8: Change in Accounting Policies | G8: =SUM(D8:F8) -> 0
B9: Restated Balance
B10: FIRS unremitted tax liability not recognised in 2017 closing balance | D10: -3.3655764e+08 | G10: =D10 -> -3.3655764e+08
B11: Reduction in the restated opening balance of Domestic Debt | D11: 2.3129416e+09 | G11: =D11 -> 2.3129416e+09
B12: Deficit on Revaluation of Investment (Bond Sinking Fund Account Balance) | C12: 35 | D12: ='BOND SINKING '!D26 -> -965316000 | G12: =D12 -> -965316000
B13: Additional Opening Cash Balance from MDAs | D13: 2.3093845e+09 | G13: =D13 -> 2.3093845e+09
B14: Net surplus/(deficit)for the Period | F14: ='F. PERFORMANCE'!E41 -> 4.3381496e+09
B15: Deficit on Revaluation of Property
B16: Investment Income not Recognised in the Statement of Financial Performance | D16: ='OTHER REV.'!D8 -> 0 | G16: =D16+E16+F16 -> 0
B17: Surplus on Revaluation of Investments
B18: Increase in Advances not Recognised in the Statement of Financial Performance | C18: 34 | D18: 11792418 | G18: =F18+E18+D18 -> 11792418
B19: Balance as at 31st December 2017 | F19: =F14 -> 4.3381496e+09 | G19: =SUM(G7:G18) -> -8.0282807e+10
E20: 1.3098337e+10
E21: =E20-#REF! -> #REF!
B23: The accounting policies and notes to the accounts form an integral part of these Financial Statements.

Sheet BUDGET&ACTUAL
B1: EKITI STATE OF NIGERIA
B2: STATEMENT OF COMPARISON OF BUDGET AND ACTUAL CASH
B3: FOR THE YEAR ENDED 31ST DECEMBER, 2018
C5: NOTES | D5: ACTUAL AMOUNT | E5: FINAL BUDGET | F5: INITIAL BUDGET | G5: VARIANCE ON FINAL BUDGET | H5: PERFORMANCE
D6: ₦ | E6: ₦ | F6: ₦ | G6: ₦ | H6: ₦
D7: A | E7: B | F7: C | G7: D=A-B | H7: A/B%
B8: OPENING BALANCE (A) | D8: =146938487.33+2309384537.52+11237130202.65 -> 1.3693453e+10 | E8: 7000000000 | F8: 7000000000 | G8: =E8-D8 -> -6.6934532e+09 | H8: =D8/E8% -> 195.62076
B9: RECEIPTS
B10: Government Share of FAAC | C10: 1 | D10: ='FAAC (1)'!E21 -> 3.8019909e+10 | E10: 3.6566274e+10 | F10: 3.2970738e+10 | G10: =E10-D10 -> -1.4536342e+09 | H10: =D10/E10% -> 103.97534
B11: Government Share of VAT | C11: 2 | D11: =VAT!C21 -> 1.0214625e+10 | E11: 11000000000 | F11: 10500000000 | G11: =E11-D11 -> 7.8537507e+08 | H11: =D11/E11% -> 92.860227
B12: Other Statutory Revenue | C12: 3 | D12: ='FAAC (2)'!I20 -> 6.009176e+09 | E12: 2.1983123e+10 | F12: =12000000000+2000000000+2000000000+7000000000 -> 23000000000 | G12: =E12-D12 -> 1.5973947e+10 | H12: =D12/E12% -> 27.335406
B13: Tax Revenue | C13: 5 | D13: =IGR!E17 -> 4.7998467e+09 | E13: =IGR!F17 -> 4.7619029e+09 | F13: =4624989954.21-0.38 -> 4.62499e+09 | G13: =E13-D13 -> -37943828 | H13: =D13/E13% -> 100.79682
B14: Non-Tax Revenue | C14: 5 | D14: =IGR!E28 -> 7.1493081e+09 | E14: =IGR!F28 -> 8.322455e+09 | F14: 6.8009545e+09 | G14: =E14-D14 -> 1.1731469e+09 | H14: =D14/E14% -> 85.903836
B15: Other Revenue | C15: 6 | D15: ='OTHER REV.'!D14 -> 2.4672238e+08 | E15: 0 | G15: =E15-D15 -> -2.4672238e+08 | H15: 0
B16: AID & Grants | C16: 7 | D16: ='OTHER REV.'!D21 -> 54468950 | E16: 2.4836948e+09 | F16: =1200000000+1283694816.87 -> 2.4836948e+09 | G16: =E16-D16 -> 2.4292259e+09 | H16: 0
B17: Transfer from other Government Entities | C17: 8 | D17: ='OTHER REV.'!D32 -> 225000000 | E17: ='OTHER REV.'!E31 -> 300000000 | G17: =E17-D17 -> 75000000 | H17: 0
B18: Proceeds from Foreign Loans | C18: 26 | D18: ='FOREIGN&LLOCAL LOAN'!E11 -> 9.7095511e+09 | E18: 1.3120622e+10 | F18: =3644179121.66+4586989085.28-0.44 -> 8.2311682e+09 | G18: =E18-D18 -> 3.4110713e+09 | H18: =D18/E18% -> 74.002215
B19: Proceeds from Domestic Loans | C19: 27 | D19: ='FOREIGN&LLOCAL LOAN'!E18 -> 287500000 | E19: 2000000000 | F19: 2000000000 | G19: =E19-D19 -> 1712500000 | H19: =D19/E19% -> 14.375
B20: Other Capital Receipts | E20: 1000000000 | F20: 1000000000 | G20: =E20-D20 -> 1000000000 | H20: 0
B21: TOTAL RECEIPTS (B) | D21: =SUM(D10:D20) -> 7.6716107e+10 | E21: =SUM(E10:E20) -> 1.0153807e+11 | F21: =SUM(F10:F20) -> 9.1611545e+10 | G21: =SUM(G10:G19) -> 2.3821966e+10 | H21: =D21/E21% -> 75.554031
B22: TOTAL FUND AVAILABLE C=(A+B) | D22: =D8+D21 -> 9.040956e+10 | E22: =E8+E21 -> 1.0853807e+11 | F22: =F8+F21 -> 9.8611545e+10 | G22: =G8+G21 -> 1.7128513e+10 | H22: =D22/E22% -> 83.297554
B23: PAYMENTS
B24: Salaries and Wages | C24: 19 | D24: ='SALARIES (CASH)'!F105 -> 1.8450741e+10 | E24: ='SALARIES '!G102 -> 2.2914273e+10 | F24: =20985197259.4-F25 -> 2.0172718e+10 | G24: =E24-D24 -> 4.4635317e+09 | H24: =D24/E24% -> 80.520736
B25: Allowances (Non Regular) | C25: 19 | D25: ='SALARIES (CASH)'!F112 -> 4.265111e+08 | E25: ='SALARIES '!G110 -> 8.1247964e+08 | F25: =22303040.79+203744932.94+584431670.76+2000000 -> 8.1247964e+08 | G25: =E25-D25 -> 3.8596854e+08 | H25: =D25/E25% -> 52.494989
B26: Social Contributions | C26: 19 | D26: ='SALARIES (CASH)'!F118 -> 108000000 | E26: ='SALARIES (CASH)'!G118 -> 250000000 | F26: =100000000+100000000 -> 200000000 | G26: =E26-D26 -> 142000000 | H26: =D26/E26% -> 43.2
B27: Social Benefits | C27: 20 | D27: ='SOCIAL BENIFITS (CASH)'!D12 -> 5.2719399e+09 | E27: ='SOCIAL BENIFITS'!E11 -> 6.1500481e+09 | F27: =3100000000+1000000000+50048060.09 -> 4.1500481e+09 | G27: =E27-D27 -> 878108160 | H27: =D27/E27% -> 85.72193
B28: Overhead Cost | C28: 22 | D28: ='OVERHEAD (CASH)'!F208 -> 2.6154563e+09 | E28: =OVERHEAD!G207 -> 3.6087429e+09 | F28: =50000000+2994892881.73 -> 3.0448929e+09 | G28: =E28-D28 -> 9.9328658e+08 | H28: =D28/E28% -> 72.475551
B29: Transfer to Other Fund | C29: 23 | D29: ='TOF (CASH)'!F73 -> 1.2356054e+10 | E29: 1.218646e+10 | F29: 1.0809337e+10 | G29: =E29-D29 -> -1.695942e+08 | H29: =D29/E29% -> 101.39166
B30: Subvention/Grants/Contributions | C30: 24 | D30: ='SUBVENTION (CASH)'!F19 -> 1.4595378e+10 | E30: =SUBVENTION!G19 -> 1.6859087e+10 | F30: =4128010058.12+10829583372.93+362493516.38 -> 1.5320087e+10 | G30: =E30-D30 -> 2.2637086e+09 | H30: =D30/E30% -> 86.572769
B31: Expenditure Financed by Aids & Grants | C31: 7 | D31: ='OTHER REV.'!D21 -> 54468950 | E31: 0 | G31: =E31-D31 -> -54468950 | H31: 0 | K31: =D33+D29 -> 2.4322192e+10
B32: Transfer to Other Governmnet Entities | C32: 9 | D32: ='OTHER REV.'!D40 -> 0 | E32: 0 | G32: =E32-D32 -> 0 | H32: 0
B33: Purchase/Construction of Assets | C33: 25 | D33: ='CAPITAL (CASH)'!F140 -> 1.1966138e+10 | E33: 3.3734119e+10 | F33: 3.2079119e+10 | G33: =E33-D33 -> 2.176798e+10 | H33: =D33/E33% -> 35.471916
B34: Public Debt Charges | C34: 21 | D34: ='SOCIAL BENIFITS (CASH)'!D24 -> 5.3253118e+09 | G34: 0 | H34: 0
B35: Foreign Loan Repayments | C35: 28 | D35: ='F LOANS REPYT '!F38 -> 4.2319634e+08 | E35: ='SOCIAL BENIFITS (CASH)'!E24 -> 1.2022864e+10 | F35: =550000000+11472863958.4 -> 1.2022864e+10 | G35: =E35-D34-D35-D36 -> -5.9077034e+08 | H35: =(D34+D35+D36)/E35% -> 104.91372
B36: Domestic Loan Repayments | C36: 29 | D36: ='D LOANS REPYT '!G19 -> 6.8651262e+09 | E36: 0 | G36: 0 | H36: 0
B37: TOTAL PAYMENTS | D37: =SUM(D24:D36) -> 7.8458322e+10 | E37: =SUM(E24:E36) -> 1.0853807e+11 | F37: =SUM(F24:F36) -> 9.8611545e+10 | G37: =SUM(G24:G36) -> 3.0079751e+10 | H37: =D37/E37% -> 72.286452
B38: NET RECEIPTS | D38: =D22-D37 -> 1.1951238e+10 | E38: =E22-E37 -> 0 | F38: =F22-F37 -> 0 | G38: =G22-G37 -> -1.2951238e+10 | H38: 0
B40: NOTE: The Statement of Comparison of Budget and Actual Amount above is prepared on Cash Basis same as Budget.
E43: =D30-5610758861.31 -> 8.9846195e+09

Sheet FAAC (1)
B1: EKITI STATE OF NIGERIA
B2: FINANCIAL STATEMENTS FOR THE YEAR ENDED 31ST DECEMBER, 2018
B3: NOTES TO THE FINANCIAL STATEMENTS
B4: NOTE 1: STATUTORY ALLOCATION (FAAC)
B6: MONTH | C6: 2018 | F6: 2017
C7: NET RECEIPT | D7: DEDUCTION AT SOURCE | E7: TOTAL | F7: NET RECEIPT | G7: DEDUCTION AT SOURCE | H7: TOTAL
C8: ₦ | D8: ₦ | E8: ₦ | F8: ₦ | G8: ₦ | H8: ₦
B9: JANUARY | C9: 2.0383187e+09 | D9: 9.6979522e+08 | E9: =D9+C9 -> 3.0081139e+09 | F9: 2.8097335e+08 | G9: 9.8389852e+08 | H9: =G9+F9 -> 1.2648719e+09
B10: FEBRUARY | C10: 1.966809e+09 | D10: 1.0155345e+09 | E10: =D10+C10 -> 2.9823435e+09 | F10: 5.3519341e+08 | G10: 1.0577384e+09 | H10: =G10+F10 -> 1.5929318e+09
B11: MARCH | C11: 2.1061572e+09 | D11: 9.7444449e+08 | E11: =D11+C11 -> 3.0806017e+09 | F11: 3.8961332e+08 | G11: 1.0166259e+09 | H11: =G11+F11 -> 1.4062392e+09
B12: APRIL | C12: 1.6852947e+09 | D12: 9.7444449e+08 | E12: =D12+C12 -> 2.6597392e+09 | F12: 6.1595855e+08 | G12: 1.0166259e+09 | H12: =G12+F12 -> 1.6325845e+09
B13: MAY | C13: 2.2890773e+09 | D13: 1.015557e+09 | E13: =D13+C13 -> 3.3046343e+09 | F13: 4.3056619e+08 | G13: 1.0577384e+09 | H13: =G13+F13 -> 1.4883046e+09
B14: JUNE | C14: 2.2399626e+09 | D14: 9.7444449e+08 | E14: =D14+C14 -> 3.2144071e+09 | F14: 7.4961034e+08 | G14: 1.0166259e+09 | H14: =G14+F14 -> 1.7662363e+09
B15: JULY | C15: 2.3704892e+09 | D15: 9.7444449e+08 | E15: =D15+C15 -> 3.3449337e+09 | F15: 2.2710102e+09 | G15: 1.0166259e+09 | H15: =G15+F15 -> 3.2876362e+09
B16: AUGUST | C16: 2.2082002e+09 | D16: 1.0188164e+09 | E16: =D16+C16 -> 3.2270166e+09 | F16: 1.1470889e+09 | G16: 1.0230179e+09 | H16: =G16+F16 -> 2.1701067e+09
B17: SEPTEMBER | C17: 2.3098862e+09 | D17: 9.7770389e+08 | E17: =D17+C17 -> 3.2875901e+09 | F17: 2.1348952e+09 | G17: 9.8190537e+08 | H17: =G17+F17 -> 3.1168006e+09
B18: OCTOBER | C18: 2.5691043e+09 | D18: 5.8050708e+08 | E18: =D18+C18 -> 3.1496114e+09 | F18: 1.3988687e+09 | G18: 9.6979522e+08 | H18: =G18+F18 -> 2.3686639e+09
B19: NOVEMBER | C19: 2.7796696e+09 | D19: 6.2161958e+08 | E19: =D19+C19 -> 3.4012892e+09 | F19: 1.2788215e+09 | G19: 1.0109077e+09 | H19: =G19+F19 -> 2.2897292e+09
B20: DECEMBER | C20: 2.7791209e+09 | D20: 5.8050708e+08 | E20: =D20+C20 -> 3.359628e+09 | F20: 1.9989263e+09 | G20: 9.6979522e+08 | H20: =G20+F20 -> 2.9687215e+09
B21: TOTAL | C21: =SUM(C9:C20) -> 2.734209e+10 | D21: =SUM(D9:D20) -> 1.0677819e+10 | E21: =SUM(E9:E20) -> 3.8019909e+10 | F21: =SUM(F9:F20) -> 1.3231526e+10 | G21: =SUM(G9:G20) -> 1.21213e+10 | H21: =SUM(H9:H20) -> 2.5352826e+10

Sheet VAT
B1: EKITI STATE OF NIGERIA
B2: FINANCIAL STATEMENTS FOR THE YEAR ENDED 31ST DECEMBER, 2018
B3: NOTES TO THE FINANCIAL STATEMENTS
B4: NOTE 2: VALUE ADDED TAX
B6: MONTH | C6: 2018 | F6: 2017
C7: NET RECEIPT | D7: DEDUCTION AT SOURCE | E7: TOTAL | F7: NET RECEIPT | G7: DEDUCTION AT SOURCE | H7: TOTAL
C8: ₦ | D8: ₦ | E8: ₦ | F8: ₦ | G8: ₦ | H8: ₦
B9: JANUARY | C9: 7.8061266e+08 | D9: 0 | E9: =D9+C9 -> 7.8061266e+08 | F9: 7.3517602e+08 | G9: 0 | H9: =F9+G9 -> 7.3517602e+08
B10: FEBRUARY | C10: 8.9573607e+08 | D10: 0 | E10: =D10+C10 -> 8.9573607e+08 | F10: 6.7653062e+08 | G10: 0 | H10: =F10+G10 -> 6.7653062e+08
B11: MARCH | C11: 8.3673786e+08 | D11: 0 | E11: =D11+C11 -> 8.3673786e+08 | F11: 6.5922643e+08 | G11: 0 | H11: =F11+G11 -> 6.5922643e+08
B12: APRIL | C12: 7.7982923e+08 | D12: 0 | E12: =D12+C12 -> 7.7982923e+08 | F12: 7.3909572e+08 | G12: 0 | H12: =F12+G12 -> 7.3909572e+08
B13: MAY | C13: 8.0836225e+08 | D13: 0 | E13: =D13+C13 -> 8.0836225e+08 | F13: 7.9113409e+08 | G13: 0 | H13: =F13+G13 -> 7.9113409e+08
B14: JUNE | C14: 8.9599773e+08 | D14: 0 | E14: =D14+C14 -> 8.9599773e+08 | F14: 7.4589355e+08 | G14: 0 | H14: =F14+G14 -> 7.4589355e+08
B15: JULY | C15: 8.1853888e+08 | D15: 0 | E15: =D15+C15 -> 8.1853888e+08 | F15: 7.7496289e+08 | G15: 0 | H15: =F15+G15 -> 7.7496289e+08
B16: AUGUST | C16: 7.4410907e+08 | D16: 0 | E16: =D16+C16 -> 7.4410907e+08 | F16: 7.5789703e+08 | G16: 0 | H16: =F16+G16 -> 7.5789703e+08
B17: SEPTEMBER | C17: 1.0840583e+09 | D17: 0 | E17: =D17+C17 -> 1.0840583e+09 | F17: 8.1147619e+08 | G17: 0 | H17: =F17+G17 -> 8.1147619e+08
B18: OCTOBER | C18: 7.5179523e+08 | D18: 0 | E18: =D18+C18 -> 7.5179523e+08 | F18: 7.6782498e+08 | G18: 0 | H18: =F18+G18 -> 7.6782498e+08
B19: NOVEMBER | C19: 9.7494262e+08 | D19: 0 | E19: =D19+C19 -> 9.7494262e+08 | F19: 8.4000674e+08 | G19: 0 | H19: =F19+G19 -> 8.4000674e+08
B20: DECEMBER | C20: 8.4390501e+08 | D20: 0 | E20: =D20+C20 -> 8.4390501e+08 | F20: 7.5986201e+08 | G20: 0 | H20: =F20+G20 -> 7.5986201e+08
B21: TOTAL | C21: =SUM(C9:C20) -> 1.0214625e+10 | D21: =SUM(D9:D20) -> 0 | E21: =SUM(E9:E20) -> 1.0214625e+10 | F21: =SUM(F9:F20) -> 9.0590863e+09 | G21: =SUM(G9:G20) -> 0 | H21: =SUM(H9:H20) -> 9.0590863e+09

Sheet FAAC (2)
A1: EKITI STATE OF NIGERIA
A2: FINANCIAL STATEMENTS FOR THE YEAR ENDED 31ST DECEMBER, 2018
A3: NOTES TO THE FINANCIAL STATEMENTS
A4: NOTE 3: OTHER STATUTORY ALLOCATION & TRANSFERS (FAAC)
A6: MONTH | B6: EXCESS CRUDE REFUND | C6: EXCHANGE RATE GAIN | D6: PARIS (NGF) REFUND | E6: FOREX EQUALIZATION | F6: RECOVERED EXCESS BANK CHARGES | G6: PARIS CLUB REFUND | H6: NNPC FUND | I6: TOTAL
B7: ₦ | C7: ₦ | D7: ₦ | E7: ₦ | F7: ₦ | G7: ₦ | H7: ₦ | I7: ₦
A8: JANUARY | B8: 0 | C8: 1.6864989e+08 | D8: 0 | E8: 0 | F8: 12214466 | G8: 0 | H8: 0 | I8: =SUM(B8:H8) -> 1.8086436e+08
A9: FEBRUARY | B9: 0 | C9: 0 | D9: 0 | E9: 0 | F9: 0 | G9: 0 | H9: 0 | I9: =SUM(B9:H9) -> 0
A10: MARCH | B10: 0 | C10: 0 | D10: 0 | E10: 0 | F10: 4123583.6 | G10: 0 | H10: 0 | I10: =SUM(B10:H10) -> 4123583.6
A11: APRIL | B11: 0 | C11: 0 | D11: 400000746 | E11: 3.4273806e+08 | F11: 0 | G11: 0 | H11: 0 | I11: =SUM(B11:H11) -> 7.4273881e+08
A12: MAY | B12: 0 | C12: 2639083.4 | D12: 0 | E12: 0 | F12: 0 | G12: 0 | H12: 61770917 | I12: =SUM(B12:H12) -> 64410000
A13: JUNE | B13: 0 | C13: 0 | D13: 0 | E13: 0 | F13: 0 | G13: 0 | H13: 0 | I13: =SUM(B13:H13) -> 0
A14: JULY | B14: 0 | C14: 0 | D14: 0 | E14: 1.3533972e+08 | F14: 46120017 | G14: 0 | H14: 0 | I14: =SUM(B14:H14) -> 1.8145973e+08
A15: AUGUST | B15: 0 | C15: 1.3718317e+08 | D15: 0 | E15: 0 | F15: 0 | G15: 0 | H15: 65775880 | I15: =SUM(B15:H15) -> 2.0295905e+08
A16: SEPTEMBER | B16: 0 | C16: 898372.7 | D16: 0 | E16: 0 | F16: 0 | G16: 0 | H16: 0 | I16: =SUM(B16:H16) -> 898372.7
A17: OCTOBER | B17: 1.1796865e+08 | C17: 1523671.8 | D17: 0 | E17: =14711738.67+141385779.29 -> 1.5609752e+08 | F17: 27738943 | G17: 0 | H17: 0 | I17: =SUM(B17:H17) -> 3.0332878e+08
A18: NOVEMBER | B18: 0 | C18: 4444980.7 | D18: 0 | E18: 0 | F18: 0 | G18: 0 | H18: 0 | I18: =SUM(B18:H18) -> 4444980.7
A19: DECEMBER | B19: 0 | C19: 5983272.5 | D19: 0 | E19: =115982770.89+267709861.47 -> 3.8369263e+08 | F19: 0 | G19: 3.9342724e+09 | H19: 0 | I19: =SUM(B19:H19) -> 4.3239483e+09
A20: TOTAL | B20: =SUM(B8:B19) -> 1.1796865e+08 | C20: =SUM(C8:C19) -> 3.2132244e+08 | D20: =SUM(D8:D19) -> 400000746 | E20: =SUM(E8:E19) -> 1.0178679e+09 | F20: =SUM(F8:F19) -> 90197009 | G20: =SUM(G8:G19) -> 3.9342724e+09 | H20: =SUM(H8:H19) -> 1.275468e+08 | I20: =SUM(I8:I19) -> 6.009176e+09

Sheet FAAC DEDUC 
B1: EKITI STATE OF NIGERIA
B2: FINANCIAL STATEMENTS FOR THE YEAR ENDED 31ST DECEMBER, 2018
B3: NOTES TO THE FINANCIAL STATEMENTS
B4: NOTE 4: FACILITIES REPAYMENT; DEDUCTION AT SOURCE (FAAC)
B6: MONTH | C6: CONTRACTUAL OBLIGATION | D6: FOREIGN LOAN | E6: NUWSR PROJECT | F6: BOND ISSUANCE PROGRAMME 2 | G6: RESTRUCTURING OF COMM. BANK LOAN | H6: FG BAIL OUT | I6: EXCESS CRUDE LOAN | J6: TOTAL
C7: ₦ | D7: ₦ | E7: ₦ | F7: ₦ | G7: ₦ | H7: ₦ | I7: ₦ | J7: ₦
B8: JANUARY | C8: 397196808 | D8: 45608595 | E8: 0 | F8: 1.02458e+08 | G8: 2.4815365e+08 | H8: 86405567 | I8: 89972596 | J8: =SUM(C8:I8) -> 9.6979522e+08
B9: FEBRUARY | C9: 397196808 | D9: 50235412 | E9: 41112500 | F9: 1.02458e+08 | G9: 2.4815365e+08 | H9: 86405567 | I9: 89972596 | J9: =SUM(C9:I9) -> 1.0155345e+09
B10: MARCH | C10: 397196808 | D10: 50257868 | E10: 0 | F10: 1.02458e+08 | G10: 2.4815365e+08 | H10: 86405567 | I10: 89972596 | J10: =SUM(C10:I10) -> 9.7444449e+08
B11: APRIL | C11: 397196808 | D11: 50257868 | E11: 0 | F11: 1.02458e+08 | G11: 2.4815365e+08 | H11: 86405567 | I11: 89972596 | J11: =SUM(C11:I11) -> 9.7444449e+08
B12: MAY | C12: 397196808 | D12: 50257868 | E12: 41112500 | F12: 1.02458e+08 | G12: 2.4815365e+08 | H12: 86405567 | I12: 89972596 | J12: =SUM(C12:I12) -> 1.015557e+09
B13: JUNE | C13: 397196808 | D13: 50257868 | E13: 0 | F13: 1.02458e+08 | G13: 2.4815365e+08 | H13: 86405567 | I13: 89972596 | J13: =SUM(C13:I13) -> 9.7444449e+08
B14: JULY | C14: 397196808 | D14: 50257868 | E14: 0 | F14: 1.02458e+08 | G14: 2.4815365e+08 | H14: 86405567 | I14: 89972596 | J14: =SUM(C14:I14) -> 9.7444449e+08
B15: AUGUST | C15: 397196808 | D15: 53517269 | E15: 41112500 | F15: 1.02458e+08 | G15: 2.4815365e+08 | H15: 86405567 | I15: 89972596 | J15: =SUM(C15:I15) -> 1.0188164e+09
B16: SEPTEMBER | C16: 397196808 | D16: 53517269 | E16: 0 | F16: 1.02458e+08 | G16: 2.4815365e+08 | H16: 86405567 | I16: 89972596 | J16: =SUM(C16:I16) -> 9.7770389e+08
B17: OCTOBER | C17: 0 | D17: 53517269 | E17: 0 | F17: 1.02458e+08 | G17: 2.4815365e+08 | H17: 86405567 | I17: 89972596 | J17: =SUM(C17:I17) -> 5.8050708e+08
B18: NOVEMBER | C18: 0 | D18: 53517269 | E18: 41112500 | F18: 1.02458e+08 | G18: 2.4815365e+08 | H18: 86405567 | I18: 89972596 | J18: =SUM(C18:I18) -> 6.2161958e+08
B19: DECEMBER | C19: 0 | D19: 53517269 | F19: 1.02458e+08 | G19: 2.4815365e+08 | H19: 86405567 | I19: 89972596 | J19: =SUM(C19:I19) -> 5.8050708e+08
B20: TOTAL | C20: =SUM(C8:C19) -> 3574771272 | D20: =SUM(D8:D19) -> 6.1471969e+08 | E20: =SUM(E8:E19) -> 164450000 | F20: =SUM(F8:F19) -> 1.229496e+09 | G20: =SUM(G8:G19) -> 2.9778438e+09 | H20: =SUM(H8:H19) -> 1.0368668e+09 | I20: =SUM(I8:I19) -> 1.0796711e+09 | J20: =SUM(J8:J19) -> 1.0677819e+10
G23: =C20+F20+G20+H20+I20+E20 -> 1.0063099e+10

Sheet IGR
B1: EKITI STATE OF NIGERIA
B2: FINANCIAL STATEMENTS FOR THE YEAR ENDED 31ST DECEMBER, 2018
B3: NOTES TO THE FINANCIAL STATEMENTS
B4: NOTE 5A: INTERNALY GENERATED REVENUE (IGR)
B6: ECONOMIC CODE | C6: HEAD | D6: DETAILS | E6: ACTUAL | F6: BUDGET | H6: VARIANCE
E7: ₦ | F7: ₦ | G7: X | H7: ₦
D8: TAX REVENUE
B9: 1201 | C9: 401 | D9: Taxes:
B10: 12010101 | D10: Pay AsYou Earn | E10: =4151774261.97+41632087.53 -> 4.1934063e+09 | F10: 3.9801989e+09 | G10: 3.7801989e+09 | H10: =F10-E10 -> -2.132074e+08
B11: 12010112 | D11: Direct Assessment | E11: 1.6358303e+08 | F11: 350000000 | G11: 350000000 | H11: =F11-E11 -> 1.8641697e+08
B12: 12010106 | D12: Development Levy | E12: =21941922.74 -> 21941923 | F12: 1.1021701e+08 | G12: 1.1021701e+08 | H12: =F12-E12 -> 88275089
B13: 12010106 | D13: Ekiti Comm Dev. Levy (TREASURY) | E13: 79337888 | F13: 0 | G13: 0 | H13: =F13-E13 -> -79337888
B14: 12010107 | D14: Capital Gains Tax | E14: 166803.8 | F14: 150000 | G14: 150000 | H14: =F14-E14 -> -16803.8
B15: 12010110 | D15: Withholding Tax | E15: 2.6182781e+08 | F15: 3.2133693e+08 | G15: 3.2133693e+08 | H15: =F15-E15 -> 59509116
D16: Tax Audit | E16: 79582915 | G16: 63087067 | H16: =F16-E16 -> -79582915
D17: TOTAL TAX REVENUE | E17: =SUM(E10:E16) -> 4.7998467e+09 | F17: =SUM(F10:F16) -> 4.7619029e+09 | H17: =SUM(H10:H16) -> -37943828
B18: 1202 | D18: NON TAX REVENUE
B19: 120204 | C19: 402 | D19: Fees and Fines | E19: ='NON TAX IGR'!E73 -> 1.0452646e+09 | F19: ='NON TAX IGR'!F73 -> 1.9516328e+09 | H19: =F19-E19 -> 9.063682e+08
B20: 120201 | C20: 403 | D20: Licences | E20: ='NON TAX IGR'!E81 -> 1.5826467e+08 | F20: ='NON TAX IGR'!F81 -> 1.5226723e+08 | H20: =F20-E20 -> -5997441.2
B21: 120207 | C21: 404 | D21: Earnings and Sales | E21: ='NON TAX IGR'!E115 -> 65996570 | F21: ='NON TAX IGR'!F115 -> 1.7026661e+08 | H21: =F21-E21 -> 1.0427004e+08
B22: 120208 | C22: 405 | D22: Rent on Govt. Properties | E22: ='NON TAX IGR'!E124 -> 1.1382591e+08 | F22: ='NON TAX IGR'!F124 -> 23483810 | H22: =F22-E22 -> -90342095
B23: 120211 | C23: 406 | D23: Government Investment (Dividend) | E23: ='NON TAX IGR'!E131 -> 57704170 | F23: ='NON TAX IGR'!F131 -> 73087067 | H23: =F23-E23 -> 15382898
B24: 120213 | C24: 407 | D24: Reimbursement | E24: 0 | F24: 0 | H24: =F24-E24 -> 0
B25: 120212 | C25: 408 | D25: Miscellaneous | E25: ='NON TAX IGR'!E138 -> 1297548 | F25: ='NON TAX IGR'!F138 -> 2588501.3 | H25: =F25-E25 -> 1290953.3
B26: 120206 | D26: Sales of unserviceable assets | E26: 0 | F26: 0 | H26: =F26-E26 -> 0
C27: 409 | D27: Parastatals | E27: ='NON TAX IGR'!E155 -> 5.7069546e+09 | F27: ='NON TAX IGR'!F155 -> 5.949129e+09 | H27: =F27-E27 -> 2.4217432e+08
D28: TOTAL NON-TAX REVENUE | E28: =SUM(E19:E27) -> 7.1493081e+09 | F28: =SUM(F19:F27) -> 8.322455e+09 | H28: =SUM(H19:H27) -> 1.1731469e+09
D29: TOTAL | E29: =E28+E17 -> 1.1949155e+10 | F29: =F28+F17 -> 1.3084358e+10 | H29: =H28+H17 -> 1.135203e+09

Sheet NON TAX IGR
A1: EKITI STATE OF NIGERIA
A2: FINANCIAL STATEMENTS FOR THE YEAR ENDED 31ST DECEMBER, 2018
A3: NOTES TO THE FINANCIAL STATEMENTS
A4: NOTE 5B: DETAILS OF NON-TAX REVENUE (IGR)
B5: ADMIN CODE | C5: MDAs | D5: FUNCTIONAL CODE | E5: ACTUAL | F5: BUDGET | G5: VARIANCE
E6: ₦ | F6: ₦ | G6: ₦
C7: 402 FINE AND FEES
B8: 011100100100 | C8: GOVERNOR OFFICE ( GAD ) | D8: 70111 | F8: 20385013 | G8: =F8-E8 -> 20385013
B9: 011100800100 | C9: STATE EMERGENCY MANAGEMENT AGENCY (SEMA) | D9: 70111 | G9: =F9-E9 -> 0
B10: 011110100100 | C10: BUREAU OF SPECIAL PROJECTS | D10: 70111 | E10: 2000 | G10: =F10-E10 -> -2000
B11: 011111300100 | C11: GOVERNMENT HOUSE PROTOCOL | D11: 70111 | F11: 1049301.8 | G11: =F11-E11 -> 1049301.8
B12: 011200300100 | C12: HOUSE OF ASSEMBLY | D12: 70111 | G12: =F12-E12 -> 0
B13: 011200400100 | C13: HOUSE OF ASSEMBLY SERVIE COMMISSION | D13: 70111 | F13: 417700.26 | G13: =F13-E13 -> 417700.26
B14: 011101000100 | C14: BUREAU OF PUBLIC PROCUREMENT (BPP) | D14: 70112 | G14: =F14-E14 -> 0
B15: 014000100100 | C15: STATE AUDITOR GENERAL OFFICE | D15: 70112 | E15: 220000 | F15: 727239.83 | G15: =F15-E15 -> 507239.83
B16: 014000100300 | C16: OFFICE OF THE AUDITOR GENERAL FOR LOCAL GOVERNMENT | D16: 70112 | F16: 6610601.1 | G16: =F16-E16 -> 6610601.1
B17: 022000100100 | C17: MINISTRY OF FINANCE AND ECONOMIC DEVELOPMENT | D17: 70112 | E17: 35000 | F17: 104425.06 | G17: =F17-E17 -> 69425.06
B18: 022000700100 | C18: OFFICE OF THE ACCOUNTANT GENERAL | D18: 70112 | E18: =16913665.62+82215447.1+7501000 -> 1.0663011e+08 | F18: 1000000 | G18: =F18-E18 -> -1.0563011e+08
B19: 022000800100 | C19: INTERNAL REVENUE SERVICE | D19: 70112 | E19: 1750000 | F19: 25000000 | G19: =F19-E19 -> 23250000
B20: 022000800300 | C20: EKITI STATE SIGNAGE AND ADVERTISEMENT (IRS) | D20: 70112 | E20: 901000 | F20: 18887432 | G20: =F20-E20 -> 17986432
B21: 011113200100 | C21: INTEGRATION & INTER-GOVERNMENTAL AFFAIRS | D21: 70122 | G21: =F21-E21 -> 0
B22: 011103500100 | C22: EKITI STATE PENSION COMMISSION | D22: 70131 | E22: 1165300 | F22: 2610626.6 | G22: =F22-E22 -> 1445326.6
B23: 012500500100 | C23: OFFICE OF ESTABLISHMENT AND TRAINING | D23: 70131 | E23: 6922400 | F23: 8746400 | G23: =F23-E23 -> 1824000
B24: 014700100100 | C24: CIVIL SERVICE COMMISSION | D24: 70131 | E24: 2329750 | F24: 716375.97 | G24: =F24-E24 -> -1613374
B25: 031801100200 | C25: JUDICIAL SERVICE COMMISSION | D25: 70131 | G25: =F25-E25 -> 0
B26: 023800400200 | C26: SUSTAINABLE DEVELOPMENT GOALS (SDG) OFFICE | D26: 70132 | F26: 9961072.7 | G26: =F26-E26 -> 9961072.7
B27: 014800100100 | C27: STATE INDEPENDENT ELECTORAL COMMISSION | D27: 70160 | E27: 200 | G27: =F27-E27 -> -200
B28: 032600100100 | C28: MINISTRY OF JUSTICE | D28: 70160 | E28: =237950-26000 -> 211950 | F28: 1.6392539e+08 | G28: =F28-E28 -> 1.6371344e+08
B29: 031800100100 | C29: THE JUDICIARY | D29: 70330 | F29: 250000 | G29: =F29-E29 -> 250000
B30: 022200100100 | C30: MINISTRY OF COMMERCE, INDUSTRIES AND COOPERATIVES | D30: 70411 | E30: =250000+9174263.79+4000000 -> 13424264 | F30: 22500000 | G30: =F30-E30 -> 9075736.2
B31: 022200100500 | C31: EKITI STATE ENTERPRISES DEVELOPMENT AGENCY | D31: 70411 | G31: =F31-E31 -> 0
B32: 022200900100 | C32: PETROLEUM PRODUCTS CONSUMER PROTECTION UNIT | D32: 70411 | E32: 20000 | F32: 3147905.2 | G32: =F32-E32 -> 3127905.2
B33: 022700100200 | C33: BUREAU OF PRODUCTIVITY AND EMPOWERMENT | D33: 70412 | F33: 835400.52 | G33: =F33-E33 -> 835400.52
B34: 021500100100 | C34: MINISTRY OF AGRICULTURE AND RURAL DEVELOPMENT | D34: 70421 | E34: =20167700+3107500+550000+250000+5000+500+176200+2500+20500+800000 -> 25079900 | F34: 28790000 | G34: =F34-E34 -> 3710100
B35: 021500100200 | C35: RURAL DEVELOPMENT | D35: 70421 | G35: =F35-E35 -> 0
B36: 021500100300 | C36: DIRECTORATE OF FARM SETTLEMENT AND PEASANT FARMER DEVELOPMENT | D36: 70421 | E36: 2500950 | F36: 15663760 | G36: =F36-E36 -> 13162810
B37: 021510900100 | C37: FORESTRY DEPARTMENT | D37: 70422 | E37: 514000 | F37: 27000000 | G37: =F37-E37 -> 26486000
B38: 023305100100 | C38: EKITI STATE MINERAL RESOURCES DEVELOPMENT AGENCY | D38: 70422 | E38: 12150 | F38: 31327519 | G38: =F38-E38 -> 31315369
B39: 023100300100 | C39: EKITI STATE ELECTRICITY BOARD | D39: 70435 | F39: 322232.35 | G39: =F39-E39 -> 322232.35
B40: 023400100100 | C40: MINISTRY OF WORKS AND TRANSPORT | D40: 70443 | E40: 3415000 | F40: 20935524 | G40: =F40-E40 -> 17520524
...

Sheet OTHER REV.
B1: EKITI STATE OF NIGERIA
B2: FINANCIAL STATEMENTS FOR THE YEAR ENDED 31ST DECEMBER, 2018
B3: NOTES TO THE FINANCIAL STATEMENTS
B4: NOTE 6: INTREST EARNED, INVESTMENT INCOME AND OTHER REVENUE
D5: 2018
B6: S/NO | C6: DETAILS | D6: ACTUAL | E6: BUDGET | F6: VARIANCE
D7: ₦ | E7: ₦ | F7: ₦
C8: INVESTMENT INCOME | D8: 0 | E8: 0 | F8: =E8-D8 -> 0
C9: INTEREST EARNED | D9: 0 | E9: 0 | F9: =E9-D9 -> 0
C10: OTHER REVENUE:
B11: 1 | C11: BAIL OUT REPAYMENT BY JAAC | D11: 94369459 | E11: 0 | F11: =E11-D11 -> -94369459
B12: 2 | C12: SALARY REFUND | D12: 42407514 | E12: 0 | F12: =E12-D12 -> -42407514
B13: 3 | C13: REFUND BY MDAs | D13: 1.0994541e+08 | E13: 0 | F13: =E13-D13 -> -1.0994541e+08
C14: TOTAL | D14: =SUM(D11:D13) -> 2.4672238e+08 | E14: =SUM(E11:E13) -> 0 | F14: =SUM(F11:F13) -> -2.4672238e+08
B15: NOTE 7: AIDS AND GRANTS
D16: 2018
B17: S/NO | C17: MDAs/DONORS | D17: ACTUAL | E17: BUDGET | F17: VARIANCE
D18: ₦ | E18: ₦ | F18: ₦
B19: 1 | C19: MINISTRY OF EDUCATION (UNICEF) | D19: 2910560
B20: 3 | C20: PRIMARY HEALTH CARE DEVELOPMENT AGENCY (UNICEF) | D20: 51558390
C21: TOTAL | D21: =SUM(D19:D20) -> 54468950 | E21: =SUM(E19:E20) -> 0 | F21: =SUM(F19:F20) -> 0
B23: EKITI STATE OF NIGERIA
B24: FINANCIAL STATEMENTS FOR THE YEAR ENDED 31ST DECEMBER, 2018
B25: NOTES TO THE FINANCIAL STATEMENTS
B26: NOTE 8: TRANSFER FROM LOCAL GOVERNMENTS
D28: 2018
B29: S/NO | C29: DETAILS | D29: ACTUAL | E29: BUDGET | F29: VARIANCE
D30: ₦ | E30: ₦ | F30: ₦
B31: 1 | C31: SOCIAL CONTRIBUTION BY JAAC | D31: 225000000 | E31: 300000000 | F31: =E31-D31 -> 75000000
C32: TOTAL | D32: =D31 -> 225000000 | E32: =E31 -> 300000000 | F32: =F31 -> 75000000
B34: NOTE 9: TRANSFER TO OTHER GOVERNMENT ENTITIES
D36: 2018
B37: S/NO | C37: DETAILS | D37: ACTUAL | E37: BUDGET | F37: VARIANCE
D38: ₦ | E38: ₦ | F38: ₦
B39: 1 | C39: TRANSFERRED TO LOCAL GOVT. | D39: 0 | E39: 0 | F39: =E39-D39 -> 0
C40: TOTAL | D40: =SUM(D39) -> 0 | E40: =SUM(E39) -> 0 | F40: =SUM(F39) -> 0

Sheet SALARIES 
B1: EKITI STATE OF NIGERIA
B2: FINANCIAL STATEMENTS FOR THE YEAR ENDED 31ST DECEMBER, 2018
B3: NOTES TO THE FINANCIAL STATEMENTS
B4: NOTE 9: SALARIES AND WAGES
B6: S/NO | C6: ADMIN CODE | D6: HEAD | E6: MINISTRIES/DEPARTMENTS/AGENCIES | F6: ACTUAL | G6: BUDGET | H6: VARIANCE
F7: ₦ | G7: ₦ | H7: ₦
E8: ADMINISTRATIVE SECTOR
B9: 1 | C9: 11100100100 | D9: 459-0400 | E9: GOVERNOR OFFICE ( GAD ) | F9: 1.1120894e+08 | G9: 1.4692235e+08 | H9: =G9-F9 -> 35713413
B10: 2 | C10: 011100100200 | D10: 459-1500 | E10: OFFICE OF THE DEPUTY GOVERNOR | F10: 40816097 | G10: 54968843 | H10: =G10-F10 -> 14152746
B11: 3 | C11: 011100300100 | D11: 459-5400 | E11: EKITI STATE BOUNDARY COMMISSION | F11: 8062914.7 | G11: 15276508 | H11: =G11-F11 -> 7213593
B12: 4 | C12: 011100800100 | D12: 458-1200 | E12: STATE EMERGENCY MANAGEMENT AGENCY | F12: 15003071 | G12: 16017043 | H12: =G12-F12 -> 1013972
B13: 5 | C13: 011101300200 | D13: 459-5100 | E13: POLITICAL AND ECONOMIC AFFAIRS DEPARTMENT. | F13: 54863578 | G13: 43048788 | H13: =G13-F13 -> -11814789
B14: 6 | C14: 011101300200 | D14: 459-5102 | E14: POLITICAL APPOINTEES (P&E) | F14: 5.1736286e+08 | G14: 8.516412e+08 | H14: =G14-F14 -> 3.3427834e+08
B15: 7 | C15: 011102100100 | D15: 459-0900 | E15: EKITI STATE LIAISON OFFICE -LAGOS | F15: 7578136.4 | G15: 15525045 | H15: =G15-F15 -> 7946908.3
B16: 8 | C16: 011102100200 | D16: 459-1000 | E16: EKITI STATE LIAISON OFFICE -ABUJA | F16: 10431570 | G16: 15945744 | H16: =G16-F16 -> 5514174.3
B17: 9 | C17: 011103700100 | D17: 459-1900 | E17: MUSLIM PILGRIM WELFARE BOARD | F17: 8697851.9 | G17: 17206254 | H17: =G17-F17 -> 8508402.5
B18: 10 | C18: 011103800100 | D18: 459-1800 | E18: CHRISTIAN PILGRIM WELFARE BOARD | F18: 12924762 | G18: 19393965 | H18: =G18-F18 -> 6469203
B19: 11 | C19: 011104400100 | D19: 458-1100 | E19: MINISTRY OF SPECIAL DUTIES | F19: 0 | G19: 89559.86 | H19: =G19-F19 -> 89559.86
B20: 12 | C20: 011111300100 | D20: 459-1600 | E20: GOVERNMENT HOUSE AND PROTOCOL | F20: 1.2692852e+08 | G20: 1.649565e+08 | H20: =G20-F20 -> 38027980
B21: 13 | C21: 011111300500 | D21: 459-3000 | E21: CABINET DEPARTMENT GOV. OFFICE | F21: 33055393 | G21: 49726624 | H21: =G21-F21 -> 16671230
... B31: 23 | C31: 014800100100 | D31: 459-4100 | E31: STATE INDEPENDENT ELECTORAL COMMISSION | F31: 62354737 | G31: 77162154 | H31: =G31-F31 -> 14807418
E32: TOTAL ADMINISTRATIVE SECTOR | F32: =SUM(F9:F31) -> 1.9053023e+09 | G32: =SUM(G9:G31) -> 2.625299e+09 | H32: =SUM(H9:H31) -> 7.1999678e+08
E33: ECONOMIC SECTOR
B34: 24 | C34: 021500100100 | D34: 451-0100 | E34: MINISTRY OF AGRICULTURE AND RURAL DEVELOPMENT | F34: 4.0596803e+08 | G34: 4.8616275e+08 | H34: =G34-F34 -> 80194722
B35: 25 | C35: 021502100200 | D35: 455-0200 | E35: SCHOOL AGRICULTURE AND ENTERPRISE | F35: 7842189.3 | G35: 19999604 | H35: =G35-F35 -> 12157414
B36: 26 | C36: 021510200100 | D36: 451-0500 | E36: AGRICULTURAL DEVELOPMENT PROJECT | F36: 1.59351e+08 | G36: 1.9493838e+08 | H36: =G36-F36 -> 35587387
B37: 27 | C37: 021511000100 | D37: 451-0300 | E37: FOUNTAIN AGRIC MARKETING AGENCY | F37: 22663418 | G37: 33052135 | H37: =G37-F37 -> 10388718
B38: 28 | C38: 022000100100 | D38: 453-0400 | E38: MINISTRY OF FINANCE AND ECONOMIC DEVELOPMENT | F38: 2.0701945e+08 | G38: 2.678742e+08 | H38: =G38-F38 -> 60854751
B39: 29 | C39: 022000800100 | D39: 459-3800 | E39: INTERNAL REVENUE SERVICE | F39: 1.6724658e+08 | G39: 206741931 | H39: =G39-F39 -> 39495353
B40: 30 | C40: 022000800300 | D40: 459-0800 | E40: EKITI STATE SIGNAGE AND ADVERTISEMENT (IRS) | F40: 317314.61 | G40: 2445047.2 | H40: =G40-F40 -> 2127732.6
B41: 31 | C41: 022200100100 | D41: 452-0100 | E41: MINISTRY OF COMMERCE, INDUSTRIES AND COOPERATIVES | F41: 1.7366007e+08 | G41: 2.2212702e+08 | H41: =G41-F41 -> 48466948
B42: 32 | C42: 022200100600 | D42: 454-0300 | E42: MULTI PURPOSE CREDIT AGENCY | F42: 31300756 | G42: 37662941 | H42: =G42-F42 -> 6362185.3
B43: 33 | C43: 022700500100 | D43: 454-0200 | E43: JOB CREATION AND EMPLOYMENT AGENCY | F43: 9821312.6 | G43: 12046137 | H43: =G43-F43 -> 2224824.2
B44: 34 | C44: 023100300100 | D44: 454-0600 | E44: EKITI STATE ELECTRICITY BOARD | F44: 64989798 | G44: 82630339 | H44: =G44-F44 -> 17640541
B45: 35 | C45: 023400100100 | D45: 454-1000 | E45: MINISTRY OF WORKS AND TRANSPORT | F45: 2.6297719e+08 | G45: 3.1710633e+08 | H45: =G45-F45 -> 54129135
... B47: 37 | C47: 023400400100 | D47: 454-1400 | E47: EKITI STATE ROAD MAINTENMENT AGENCY (EKROMA)(PUBLIC WORKS CORPORATION) | F47: 18722383 | G47: 24363643 | H47: =G47-F47 -> 5641259.9
B48: 38 | C48: 023600400200 | D48: 453-0100 | E48: BUREAU OF TOURISM ART AND CULTURE | F48: =48423052.69+13827889.73 -> 62250942 | G48: 94256913 | H48: =G48-F48 -> 32005971
B49: 39 | C49: 023800100100 | D49: 459-3100 | E49: MINISTRY OF BUDGET AND ECONOMIC PLANNING | F49: 68323775 | G49: 93500259 | H49: =G49-F49 -> 25176484
B50: 40 | C50: 023800400100 | D50: 459-3200 | E50: BUREAU OF STATISTICS | F50: 24221617 | G50: 36590539 | H50: =G50-F50 -> 12368922
B51: 41 | C51: 025210200100 | D51: 454-0800 | E51: EKITI STATE WATER CORPORATION | F51: 2.91524e+08 | G51: 3.5239409e+08 | H51: =G51-F51 -> 60870089
...

Sheet PERSONEL
B1: EKITI STATE OF NIGERIA
B2: FINANCIAL STATEMENTS FOR THE YEAR ENDED 31ST DECEMBER, 2018
B3: NOTES TO THE FINANCIAL STATEMENTS
B4: NOTE 9D: PERSONNEL ANALYSIS
B6: MONTH | C6: CIVIL SERVAT | E6: SECONADRY SCHOOLS TEACHERS | G6: POLITICAL APPOINTEES | I6: TOTAL
C7: NUMBER | D7: AMOUNT (N) | E7: NUMBER | F7: AMOUNT (N) | G7: NUMBER | H7: AMOUNT (N) | I7: NUMBER | J7: AMOUNT (N)
B8: JANUARY | C8: 10706 | D8: 6.7885096e+08 | E8: 9356 | F8: 6.8262371e+08 | G8: 136 | H8: 64561248 | I8: =C8+E8+G8 -> 20198 | J8: =D8+F8+H8 -> 1.4260359e+09
B9: FEBRUARY | C9: 10767 | D9: 6.8161823e+08 | E9: 9341 | F9: 6.7988931e+08 | G9: 136 | H9: 64307118 | I9: =C9+E9+G9 -> 20244 | J9: =D9+F9+H9 -> 1.4258147e+09
B10: MARCH | C10: 10751 | D10: 6.9405373e+08 | E10: 9322 | F10: 6.7653514e+08 | G10: 133 | H10: 51224382 | I10: =C10+E10+G10 -> 20206 | J10: =D10+F10+H10 -> 1.4218133e+09
B11: APRIL | C11: 10732 | D11: 6.8631518e+08 | E11: 9291 | F11: 6.7266038e+08 | G11: 132 | H11: 51194348 | I11: =C11+E11+G11 -> 20155 | J11: =D11+F11+H11 -> 1.4101699e+09
B12: MAY | C12: 10708 | D12: 6.7209858e+08 | E12: 9268 | F12: 6.706545e+08 | G12: 131 | H12: 62229780 | I12: =C12+E12+G12 -> 20107 | J12: =D12+F12+H12 -> 1.4049829e+09
B13: JUNE | C13: 10205 | D13: 6.4746055e+08 | E13: 9238 | F13: 665941651 | G13: 69 | H13: 29771166 | I13: =C13+E13+G13 -> 19512 | J13: =D13+F13+H13 -> 1.3431734e+09
B14: JULY | C14: 10190 | D14: 6.5389865e+08 | E14: 9219 | F14: 6.7062948e+08 | G14: 67 | H14: 28983700 | I14: =C14+E14+G14 -> 19476 | J14: =D14+F14+H14 -> 1.3535118e+09
B15: AUGUST | C15: 10164 | D15: 6.4537889e+08 | E15: 9197 | F15: 6.67081e+08 | G15: 67 | H15: 28983700 | I15: =C15+E15+G15 -> 19428 | J15: =D15+F15+H15 -> 1.3414436e+09
B16: SEPTEMBER | C16: 10134 | D16: 6.4285771e+08 | E16: 9174 | F16: 6.6054637e+08 | G16: 67 | H16: 28983700 | I16: =C16+E16+G16 -> 19375 | J16: =D16+F16+H16 -> 1.3323878e+09
B17: OCTOBER | C17: 10109 | D17: 6.4098022e+08 | E17: 9120 | F17: 6.5675114e+08 | G17: 68 | H17: 28926006 | I17: =C17+E17+G17 -> 19297 | J17: =D17+F17+H17 -> 1.3266574e+09
B18: NOVEMBER | C18: 10157 | D18: 6.7383925e+08 | E18: 9101 | F18: 6.5493214e+08 | G18: 91 | H18: 28621742 | I18: =C18+E18+G18 -> 19349 | J18: =D18+F18+H18 -> 1.3573931e+09
B19: DECEMBER | C19: 10123 | D19: 6.4531895e+08 | E19: 9083 | F19: 6.543686e+08 | G19: 96 | H19: 40575973 | I19: =C19+E19+G19 -> 19302 | J19: =D19+F19+H19 -> 1.3402635e+09
B20: TOTAL | D20: =SUM(D8:D19) -> 7.9626709e+09 | F20: =SUM(F8:F19) -> 8.0126134e+09 | H20: =SUM(H8:H19) -> 5.0836286e+08 | J20: =SUM(J8:J19) -> 1.6483647e+10

Sheet SOCIAL BENIFITS
B1: EKITI STATE OF NIGERIA
B2: FINANCIAL STATEMENTS FOR THE YEAR ENDED 31ST DECEMBER, 2018
B3: NOTES TO THE FINANCIAL STATEMENTS
B4: NOTE 10: SOCIAL BENEFITS
D5: 2018 | G5: 2017
B6: HEAD | C6: DETALS | D6: ACTUAL | E6: BUDGET | F6: VARIANCE | G6: ACTUAL
D7: ₦ | E7: ₦ | F7: ₦ | G7: ₦
B8: 434001 | C8: PENSION | D8: 4.7280735e+09 | E8: 5100000000 | F8: =E8-D8 -> 3.7192646e+08 | G8: 4.3479459e+09
B9: 434002 | C9: GRATUITY | D9: 2.7650211e+09 | E9: 1000000000 | F9: =E9-D9 -> -1.7650211e+09 | G9: 1.7827605e+09
B10: 434017 | C10: PENSION/MAINTENANCE FOR PAST POLITICAL OFFICE HOLDERS (GOVS. & DEP. GOVS.) | D10: 0 | E10: 50048060 | F10: =E10-D10 -> 50048060 | G10: 0
C11: TOTAL | D11: =SUM(D8:D10) -> 7.4930947e+09 | E11: =SUM(E8:E10) -> 6.1500481e+09 | F11: =SUM(F8:F10) -> -1.3430466e+09 | G11: =SUM(G8:G10) -> 6.1307064e+09
B13: NOTE 11: PUBLIC DEBT CHARGES
D14: 2018 | G14: 2017
B15: HEAD | C15: DETALS | D15: ACTUAL | E15: BUDGET | F15: VARIANCE | G15: ACTUAL
D16: ₦ | E16: ₦ | F16: ₦ | G16: ₦
B17: 434003 | C17: LEGAL CHARGES | D17: 65000000 | E17: 550000000 | F17: =E17-D17 -> 485000000 | G17: 60550000
B18: 434003 | C18: FORENSIC CONSULTANCY | D18: 2.3621007e+08 | E18: 1.1472864e+10 | F18: =E18-D18-D20 -> 6.5973543e+09
B19: 434005 | C19: FOREIGN LOAN INTEREST CHARGES | D19: 1.9152335e+08
B20: 434005 | C20: DOMESTIC LOAN INTEREST CHARGES | D20: ='D LOANS REPYT '!H19 -> 4.6392996e+09 | G20: 7.0284303e+09
C21: TOTAL | D21: =SUM(D17:D20) -> 5.132033e+09 | E21: =SUM(E17:E20) -> 1.2022864e+10 | F21: =SUM(F17:F20) -> 7.0823543e+09 | G21: =SUM(G17:G20) -> 7.0889803e+09
E23: =E21+E11 -> 1.8172912e+10

Sheet OVERHEAD
B1: EKITI STATE OF NIGERIA
B2: FINANCIAL STATEMENTS FOR THE YEAR ENDED 31ST DECEMBER, 2018
B3: NOTES TO THE FINANCIAL STATEMENTS
B4: NOTE 13: OVERHEAD COST (BY SECTORS)
B6: S/NO | C6: ADMIN CODE | D6: HEAD | E6: MINISTRIES/DEPARTMENTS/AGENCIES | F6: ACTUAL | G6: BUDGET | H6: VARIANCE
F7: ₦ | G7: ₦ | H7: ₦
E8: ADMINISTRATIVE SECTOR
B9: 1 | C9: 011100100100 | D9: 459-0400 | E9: GOVERNOR OFFICE ( GAD ) | F9: 17879920 | G9: 20000000 | H9: =G9-F9 -> 2120080
B10: 2 | C10: 011100100101 | D10: 459-1001 | E10: EKITI STATE GOVERNORS LODGE, ABUJA | F10: 2640000 | G10: 7937277.1 | H10: =G10-F10 -> 5297277.1
B11: 3 | C11: 011100100200 | D11: 459-1500 | E11: OFFICE OF THE DEPUTY GOVERNOR | F11: 133254682 | G11: 1.4740657e+08 | H11: =G11-F11 -> 14151892
B12: 4 | C12: 011100100201 | D12: 459-1002 | E12: EKITI STATE DEPUTY GOVERNORS LODGE, ABUJA | F12: 1200000 | G12: 3401690.2 | H12: =G12-F12 -> 2201690.2
B13: 5 | C13: 011100200101 | D13: 459-1606 | E13: OFFICE OF THE SPECIAL ADVISER GOVERNORS OFFICE (GH&P) | F13: 0 | G13: 2535586.9 | H13: =G13-F13 -> 2535586.9
B14: 6 | C14: 011100200118 | D14: 459-0410 | E14: OFFICE OF PRIVATE SECRETARY TO GOVERNOR (GH&P) | F14: 0 | G14: 1020507.1 | H14: =G14-F14 -> 1020507.1
B15: 7 | C15: 011100300100 | D15: 459-5400 | E15: EKITI STATE BOUNDARY COMMISSION | F15: 1100000 | G15: 2551267.6 | H15: =G15-F15 -> 1451267.6
B16: 8 | C16: 011100300200 | D16: 459-5901 | E16: BOUNDARY TECHNICAL COMMITTEE(D-GOV) | F16: 0 | G16: 5669483.6 | H16: =G16-F16 -> 5669483.6
B17: 9 | C17: 011100800100 | D17: 458-1200 | E17: STATE EMERGENCY MANAGEMENT AGENCY (SEMA) | F17: 600000 | G17: 1700845.1 | H17: =G17-F17 -> 1100845.1
B18: 10 | C18: 011101000100 | D18: 459-0700 | E18: BUREAU OF PUBLIC PROCUREMENT (BPP) | F18: 2150000 | G18: 5303380.3 | H18: =G18-F18 -> 3153380.3
B19: 11 | C19: 011101000200 | D19: 459-3108 | E19: STATE PROJECTS MONITORING AND EVALUATION OFFICE | F19: 1100000 | G19: 4000000 | H19: =G19-F19 -> 2900000
B20: 12 | C20: 011101000300 | D20: 459-5902 | E20: PROJECT EVALUATION COMMITTEE | F20: 825000 | G20: 1700845.1 | H20: =G20-F20 -> 875845.09
... B33: 25 | C33: 011103500100 | D33: 459-2600 | E33: EKITI STATE PENSION COMMISSION (ACTUARIAL VALUATION) | F33: 0 | G33: 50000000 | H33: =G33-F33 -> 50000000
B34: 26 | C34: 011103700100 | D34: 459-1900 | E34: MUSLIM PILGRIM WELFARE BOARD | F34: =40000+400000 -> 440000 | G34: 2000000 | H34: =G34-F34 -> 1560000
B35: 27 | C35: 011103800100 | D35: 459-1800 | E35: CHRISTIAN PILGRIM WELFARE BOARD | F35: 400000 | G35: 2000000 | H35: =G35-F35 -> 1600000
B36: 28 | C36: 011104800100 | D36: 459-0101 | E36: EKITI STATE CITIZENS RIGHTS | F36: 400000 | G36: 1000000 | H36: =G36-F36 -> 600000
B37: 29 | C37: 011110500100 | D37: 459-1700 | E37: OFFICE OF THE CHIEF OF STAFF | F37: 2620360 | G37: 3500000 | H37: =G37-F37 -> 879640.04
B38: 30 | C38: 011110500101 | D38: 459-3902 | E38: APPOINTMENT DEPARTMENT (CSC) | F38: 1200000 | G38: 1800000 | H38: =G38-F38 -> 600000
B39: 31 | C39: 011111100100 | D39: 452-0200 | E39: PUBLIC-PRIVATE PARTNERSHIP | F39: 700000 | G39: 1530760.6 | H39: =G39-F39 -> 830760.58
B40: 32 | C40: 011111300100 | D40: 459-1600 | E40: GOVERNMENT HOUSE PROTOCOL | F40: 1067450000 | G40: 1500000000 | H40: =G40-F40 -> 432550000
B41: 33 | C41: 011111300400 | D41: 459-1614 | E41: MAINTENANCE OF GOVERNORS LODGE | F41: 0 | G41: 3061521.1 | H41: =G41-F41 -> 3061521.1
B42: 34 | C42: 011111300500 | D42: 459-3001 | E42: MAINTENANCE OF EXCO CHAMBERS | F42: 2784800 | G42: 3061521.1 | H42: =G42-F42 -> 276721.15
B43: 35 | C43: 011111300500 | D43: 459-3000 | E43: CABINET DEPARTMENT GOV. OFFICE | F43: 14641000 | G43: 16328113 | H43: =G43-F43 -> 1687112.8
B44: 36 | C44: 011111400100 | D44: 459-1609 | E44: CHIEF PRESS SECRETARY/ SA MEDIA | F44: 1824000 | G44: 7000000 | H44: =G44-F44 -> 5176000
B45: 37 | C45: 011113200100 | D45: 459-2000 | E45: INTEGRATION & INTER-GOVERNMENTAL AFFAIRS | F45: 3600000 | G45: 4401690.2 | H45: =G45-F45 -> 801690.17
B46: 38 | C46: 011200300100 | D46: 459-2100 | E46: HOUSE OF ASSEMBLY | F46: 507400000 | G46: 550000000 | H46: =G46-F46 -> 42600000
B47: 39 | C47: 011200400100 | D47: 459-2200 | E47: HOUSE OF ASSEMBLY SERVIE COMMISSION | F47: 6000000 | G47: 17000000 | H47: =G47-F47 -> 11000000
B48: 40 | C48: 12300100100 | D48: 457-0102 | E48: MINISTRY OF INFORMATION, YOUTH AND SPORT (CIVIC ORIENTATION) | F48: 4400000 | G48: 6803380.3 | H48: =G48-F48 -> 2403380.3
B49: 41 | C49: 012300300100 | D49: 457-0200 | E49: BROADCASTING SERVICE OF EKITI STATE | F49: 40588843 | G49: 3000000 | H49: =G49-F49 -> -37588843
B50: 42 | C50: 012301300100 | D50: 457-0300 | E50: GOVERNMENT PRINTING PRESS | F50: 0 | G50: 1500000 | H50: =G50-F50 -> 1500000
B51: 43 | C51: 012400700100 | D51: 458-1102 | E51: EKITI STATE FIRE SERVICE | F51: 2200000 | G51: 4803380.3 | H51: =G51-F51 -> 2603380.3
B52: 44 | C52: 012500100100 | D52: 459-0600 | E52: OFFICE OF THE HEAD OF SERVICE | F52: 10200000 | G52: 20000000 | H52: =G52-F52 -> 9800000
B53: 45 | C53: 012500100200 | D53: 459-3901 | E53: PERSONNEL DEPARTMENT (CSC) | F53: 1200000 | G53: 1800000 | H53: =G53-F53 -> 600000
...

Sheet TOF
B1: EKITI STATE OF NIGERIA
B2: FINANCIAL STATEMENTS FOR THE YEAR ENDED 31ST DECEMBER, 2018
B3: NOTES TO THE FINANCIAL STATEMENTS
B4: NOTE 13: TRANSFER TO OTHER FUNDS
B5: S/NO | C5: ADMIN CODE | D5: HEAD | E5: MINISTRIES/DEPARTMENTS/AGENCIES | F5: ACTUAL | G5: BUDGET | H5: VARIANCE
F6: ₦ | G6: ₦ | H6: ₦
E7: ADMINISTRATIVE SECTOR
B8: 1 | C8: 012500500100 | D8: 459-2300 | E8: OFFICE OF ESTABLISHMENT AND TRANNING | F8: 66317100 | G8: 157340000 | H8: =G8-F8 -> 91022900
B9: 2 | C9: 011200400100 | D9: 459-2200 | E9: HOUSE OF ASSEMBLY SERVICE COMMISION | F9: 0 | G9: 20669484 | H9: =G9-F9 -> 20669484
B10: 3 | C10: 012300100100 | D10: 457-0100 | E10: MINISTRY OF INFORMATION, SOCIAL DEVELOPMENT, SPORTS AND CULTURE | F10: 0 | G10: 20441502 | H10: =G10-F10 -> 20441502
B11: 4 | C11: 011100100100 | D11: 459-0400 | E11: GENERAL ADMINISTRATION DEPARTMENT | F11: =40000+187522500 -> 187562500 | G11: 3.3875423e+08 | H11: =G11-F11 -> 1.5119173e+08
B12: 5 | C12: 011101300200 | D12: 459-5100 | E12: POLITICAL AND ECONOMIC AFFAIRS DEPARTMENT | F12: =88281314.98+345472308.87 -> 4.3375362e+08 | G12: 1.1103897e+09 | H12: =G12-F12 -> 6.7663605e+08
B13: 6 | C13: 011100800100 | D13: 458-1200 | E13: EKITI STATE EMERGENCY MANAGEMENT AGENCY(SEMA) | F13: 11500000 | G13: 20000000 | H13: =G13-F13 -> 8500000
B14: 7 | C14: 011200300100 | D14: 459-2100 | E14: HOUSE OF ASSEMBLY | F14: 23000078 | G14: 2.2177566e+08 | H14: =G14-F14 -> 1.9877558e+08
B15: 8 | C15: 014000100100 | D15: 459-2800 | E15: STATE AUDITOR-GENERAL'S OFFICE | F15: 2462500 | G15: 20000000 | H15: =G15-F15 -> 17537500
B16: 9 | C16: 014000100300 | D16: 459-2900 | E16: STATE AUDITOR-GENERAL FOR LOCAL GOVERNMENT | F16: 340000 | G16: 5000000 | H16: =G16-F16 -> 4660000
B17: 10 | C17: 011103800100 | D17: 459-1800 | E17: CHRISTIAN PILGRIMS BOARD | F17: 0 | G17: 20000000 | H17: =G17-F17 -> 20000000
B18: 11 | C18: 011103700100 | D18: 459-1900 | E18: MUSLIM PILGRIMS BOARD | F18: 0 | G18: 20000000 | H18: =G18-F18 -> 20000000
B19: 12 | C19: 014700100100 | D19: 459-3900 | E19: CIVIL SERVICE COMMISSION | F19: 5100000 | G19: 6000000 | H19: =G19-F19 -> 900000
B20: 13 | C20: 011103400200 | D20: 459-4500 | E20: OFFICE OF PUBLIC DEFENDER | F20: 0 | G20: 10000000 | H20: =G20-F20 -> 10000000
E21: TOTAL ADMINISTRATIVE SECTOR | F21: =SUM(F8:F20) -> 7.300358e+08 | G21: =SUM(G8:G20) -> 1.9703706e+09 | H21: =G21-F21 -> 1.2403348e+09
E22: ECONOMIC SECTOR
B23: 14 | C23: 23600400200 | E23: BUREAU OF TOURISM, ARTS AND CULTURE | G23: 5000000 | H23: =G23-F23 -> 5000000
B24: 15 | C24: 022000100100 | D24: 453-0400 | E24: MINISTRY OF FINANCE | F24: =6585946654.33 -> 6.5859467e+09 | G24: 6.6066749e+09 | H24: =G24-F24 -> 20728238
B25: 16 | C25: 022200100100 | D25: 453-0700 | E25: EKITI STATE ENTERPRISES DEVELOPMENT AGENCY | F25: 0 | G25: 0 | H25: =G25-F25 -> 0
B26: 17 | C26: 022000700100 | D26: 459-3600 | E26: OFFICE OF THE ACCOUNTANT GENERAL | F26: 39045000 | G26: 87092991 | H26: =G26-F26 -> 48047991
B27: 18 | C27: 022700500100 | D27: 454-0200 | E27: JOB CREATION AND EMPLOYMENT AGENCY | F27: 0 | G27: 5669483.6 | H27: =G27-F27 -> 5669483.6
B28: 19 | C28: 022800700200 | D28: 459-1504 | E28: BUREAU OF COMMUNICATION TECHNOLOGY AND SOCIAL MEDIA | F28: 6000000 | G28: 8656521.6 | H28: =G28-F28 -> 2656521.6
B29: 20 | C29: 023800100100 | D29: 459-3100 | E29: MINISTRY OF BUDGET, ECONOMIC PLANNING AND SERVICE DELIVERY | F29: 53244350 | G29: 75009984 | H29: =G29-F29 -> 21765634
B30: 21 | C30: 022905500100 | D30: 454-1100 | E30: EKITI STATE TRAFFIC MANAGEMENT AGENCY | F30: 19575000 | G30: 40000000 | H30: =G30-F30 -> 20425000
B31: 22 | C31: 023800400100 | D31: 459-3200 | E31: BUREAU OF STATISTICS | F31: 0 | G31: 10000000 | H31: =G31-F31 -> 10000000
B32: 23 | C32: 025210200100 | D32: 454-0800 | E32: EKITI STATE WATER CORPORATION | F32: 50000000 | G32: 100000000 | H32: =G32-F32 -> 50000000
B33: 24 | C33: 025300100100 | D33: 458-0101 | E33: MINISTRY OF LANDS,HOUSING AND URBAN DEVT. | F33: 13200000 | G33: 16600000 | H33: =G33-F33 -> 3400000
E34: TOTAL ECONOMIC SECTOR | F34: =SUM(F23:F33) -> 6.767011e+09 | G34: =SUM(G23:G33) -> 6.9547039e+09 | H34: =G34-F34 -> 1.8769287e+08
E35: SOCIAL SECTOR
B36: 25 | C36: 051700100100 | D36: 455-0100 | E36: MINISTRY OF EDUCATION, SCIENCE AND TECHNOLOGY | F36: =1523171637.4+250000000 -> 1.7731716e+09 | G36: 1.8324798e+09 | H36: =G36-F36 -> 59308209
B37: 26 | C37: 051705300100 | D37: 455-0500 | E37: BOARD OF TECHNICAL AND VOCATIONAL EDUCATION | F37: 9123750 | G37: 60000000 | H37: =G37-F37 -> 50876250
B38: 27 | C38: 051705500200 | D38: 455-0600 | E38: AGENCY FOR ADULT AND NON-FORMAL EDUCATION | F38: 0 | G38: 35169484 | H38: =G38-F38 -> 35169484
B39: 28 | C39: 052100100100 | D39: 456-0100 | E39: MINISTRY OF HEALTH | F39: 60000000 | G39: 80000000 | H39: =G39-F39 -> 20000000
B40: 29 | C40: 051705600100 | D40: 455-0300 | E40: EKITI STATE SCHOLARSHIP BOARD | F40: =226381145+850000 -> 227231145 | G40: 353577500 | H40: =G40-F40 -> 126346355
...

Sheet SUBVENTION
B1: EKITI STATE OF NIGERIA
B2: FINANCIAL STATEMENTS FOR THE YEAR ENDED 31ST DECEMBER, 2018
B3: NOTES TO THE FINANCIAL STATEMENTS
B4: NOTE 14: SUBVENTION/GRANTS TO TERTIARY INSTITUTIONS AND PARASTALTALS
B6: S/NO | C6: ADMIN CODE | D6: HEAD | E6: TETIARY INSTITUTIONS/PARASTALTALS | F6: ACTUAL | G6: BUDGET | H6: VARIANCE | I6: ACTUAL
F7: ₦ | G7: ₦ | H7: ₦ | I7: N
B8: 1 | C8: 012300200100 | D8: 457-0102 | E8: MINISTRY OF INFORMATION, YOUTH AND SPORT (CIVIC ORIENTATION) | F8: 5280000 | G8: 11699924 | H8: =G8-F8 -> 6419924.3 | I8: 4000000
B9: 2 | C9: 012400400100 | D9: 457-0415 | E9: NIGERIA SECURITY AND CIVIL DEFENCE CORPS | F9: 6999996 | G9: 8164056.1 | H9: =G9-F9 -> 1164060.1 | I9: 6999996
B10: 3 | C10: 012400400200 | D10: 459-2303 | E10: NIGERIAN LEGION | F10: 2100000 | G10: 2700000 | H10: =G10-F10 -> 600000 | I10: 1800000
B11: 4 | C11: 031800100100 | D11: 459-0200 | E11: THE JUDICIARY | F11: 948216152 | G11: 1.2182169e+09 | H11: =G11-F11 -> 2.7000072e+08 | I11: 925242552
B12: 5 | C12: 031801100100 | D12: 459-0300 | E12: JUDICIAL SERVICE COMMISSION | F12: 65191992 | G12: 1.1093789e+08 | H12: =G12-F12 -> 45745896 | I12: 65191992
B13: 6 | C13: 051701800100 | D13: 455-1200 | E13: COLLEGE OF EDUCATION - IKERE EKITI | F13: =2110423656+634279344 -> 2744703000 | G13: =955657315.31+3253264634.3 -> 4.2089219e+09 | H13: =G13-F13 -> 1.4642189e+09 | I13: 2110423656
B14: 7 | C14: 051702100100 | D14: 455-1000 | E14: EKITI STATE UNIVERSITY | F14: =3120000000+4186212296 -> 7306212296 | G14: =3811125264.12+3380000000 -> 7.1911253e+09 | H14: =G14-F14 -> -1.1508703e+08 | I14: 3120000000
B15: 8 | C15: 052102600100 | D15: 456-0300 | E15: EKITI STATE UNIVERSITY TEACHING HOSPITAL | F15: =2148135795.48+603638941 -> 2.7517747e+09 | G15: =700000000+2500000000 -> 3200000000 | H15: =G15-F15 -> 4.4822526e+08 | I15: 2.1481358e+09
B16: 9 | C16: 052110600100 | D16: 456-0200 | E16: COLLEGE OF HEALTH TECHNOLOGY | F16: =246222474.48+186628280.31 -> 4.3285075e+08 | G16: =200227478.69+280000000 -> 4.8022748e+08 | H16: =G16-F16 -> 47376724 | I16: 2.4622247e+08
B17: 10 | C17: 053905100200 | D17: 457-0405 | E17: EKITI UNITED FOOTBALL CLUB | F17: 45600000 | G17: 64600000 | H17: =G17-F17 -> 19000000 | I17: 45000000
B18: 11 | C18: 014700300100 | D18: 434-004 | E18: 10% IGR CONTRIBUTION TO LOCAL GOVT. | F18: 0 | G18: 3.6249352e+08 | H18: =G18-F18 -> 3.6249352e+08
E19: TOTAL | F19: =SUM(F8:F18) -> 1.4308929e+10 | G19: =SUM(G8:G18) -> 1.6859087e+10 | H19: =SUM(H8:H18) -> 2.550158e+09 | I19: =SUM(I8:I17) -> 8.6730165e+09

Sheet DEPRECIATION 
B1: EKITI STATE OF NIGERIA
